View In:
ArcGIS JavaScript
ArcGIS Online Map Viewer
ArcGIS Earth
ArcGIS Pro
Service Description: The Tax_Services-Viewer service contains the following: Soils, 5' Contours, 1"=400' Tax Map grid, Tax Services Woodland, School District boundary, Zip Code boundary, and Millage Rates.
Map Name: Tax_Services_Viewer
Legend
All Layers and Tables
Dynamic Legend
Dynamic All Layers
Layers:
Description: The Tax_Services-Viewer service contains the following: Soils, 5' Contours, 1"=400' Tax Map grid, Tax Services Woodland, School District boundary, Zip Code boundary, and Millage Rates.
Service Item Id: bce06c0b44a744b29596bb400959d383
Copyright Text: ACOPD
Spatial Reference:
102100
(3857)
LatestVCSWkid(0)
Single Fused Map Cache: true
Tile Info:
- Height: 256.0
- Width: 256.0
- DPI: 96.0
-
Levels of Detail: 24
-
Level ID: 1
[ Start Tile, End Tile ]
- Resolution: 78271.5169639999
- Scale: 2.95828763795777E8
-
Level ID: 2
[ Start Tile, End Tile ]
- Resolution: 39135.7584820001
- Scale: 1.47914381897889E8
-
Level ID: 3
[ Start Tile, End Tile ]
- Resolution: 19567.8792409999
- Scale: 7.3957190948944E7
-
Level ID: 4
[ Start Tile, End Tile ]
- Resolution: 9783.93962049996
- Scale: 3.6978595474472E7
-
Level ID: 5
[ Start Tile, End Tile ]
- Resolution: 4891.96981024998
- Scale: 1.8489297737236E7
- Format: PNG
- Compression Quality: 0.0
- Origin: X: -2.0037508342787E7
Y: 2.0037508342787E7
- Spatial Reference: 102100
(3857)
LatestVCSWkid(0)
Storage Info:
- Storage Format: esriMapCacheStorageModeCompactV2
- Packet Size: 128
Initial Extent:
XMin: -8621539.248734294
YMin: 4827533.67727726
XMax: -8564370.637848426
YMax: 4860945.503466206
Spatial Reference: 102100
(0)
LatestVCSWkid(0)
Full Extent:
XMin: -8624626.807638016
YMin: 4824597.838202358
XMax: -8562417.929763598
YMax: 4876716.55631697
Spatial Reference: 102100
(0)
LatestVCSWkid(0)
Units: esriMeters
Supported Image Format Types: PNG32,PNG24,PNG,JPG,DIB,TIFF,EMF,PS,PDF,GIF,SVG,SVGZ,BMP
Document Info:
Title: ParcelMap
Author:
Comments: The Tax_Services-Viewer service contains the following: Soils, 5' Contours, 1"=400' Tax Map grid, Tax Services Woodland, School District boundary, Zip Code boundary, and Millage Rates.
Subject: This map is for viewing parcels, identifying features associated with parcels, and access to deed links.
Category:
Keywords: Adams County,Parcels
AntialiasingMode: Fast
TextAntialiasingMode: Force
Supports Dynamic Layers: true
MaxRecordCount: 2000
MaxSelectionCount: 2000
MaxImageHeight: 4096
MaxImageWidth: 4096
Supported Query Formats: JSON, geoJSON, PBF
Supports Query Data Elements: true
Min Scale: 577790.554289
Max Scale: 4513.988705
Min LOD: 10
Max LOD: 17
Supports Datum Transformation: true
Child Resources:
Info
Dynamic Layer
Supported Operations:
Export Map
Identify
QueryLegends
QueryDomains
Find
Return Updates