View In:
ArcGIS JavaScript
ArcGIS Online map viewer
ArcGIS Earth
ArcMap
ArcGIS Pro
View Footprint In:
ArcGIS Online map viewer
Service Description: These locations are based on parcel ID's that are joined to the ACOPD log-in database and converted to a point. Not all records may be present due to mistyping of the parcel ID in the database, multiple parcel IDs in the field, or parcels with an identifier outside the County. The building permit table is also part of this service for use use in annual reports.
Map Name: Layers
Legend
All Layers and Tables
Dynamic Legend
Dynamic All Layers
Layers:
Tables:
Description: These locations are based on parcel ID's that are joined to the ACOPD log-in database and converted to a point. Not all records may be present due to mistyping of the parcel ID in the database, multiple parcel IDs in the field, or parcels with an identifier outside the County.
Copyright Text: Adams County Office of Planning and Development
Spatial Reference:
102100
(3857)
Single Fused Map Cache: true
Tile Info:
- Height: 256
- Width: 256
- DPI: 96
-
Levels of Detail: 20
-
Level ID: 0
[ Start Tile, End Tile ]
- Resolution: 156543.03392800014
- Scale: 5.91657527591555E8
-
Level ID: 1
[ Start Tile, End Tile ]
- Resolution: 78271.51696399994
- Scale: 2.95828763795777E8
-
Level ID: 2
[ Start Tile, End Tile ]
- Resolution: 39135.75848200009
- Scale: 1.47914381897889E8
-
Level ID: 3
[ Start Tile, End Tile ]
- Resolution: 19567.87924099992
- Scale: 7.3957190948944E7
-
Level ID: 4
[ Start Tile, End Tile ]
- Resolution: 9783.93962049996
- Scale: 3.6978595474472E7
-
Level ID: 5
[ Start Tile, End Tile ]
- Resolution: 4891.96981024998
- Scale: 1.8489297737236E7
- Format: PNG
- Compression Quality: 0.0
- Origin: X: -2.0037508342787E7
Y: 2.0037508342787E7
- Spatial Reference: 102100
(3857)
Storage Info:
- Storage Format: esriMapCacheStorageModeCompactV2
- Packet Size: 128
Initial Extent:
XMin: -8606428.548340652
YMin: 4847421.59792718
XMax: -8593162.172194472
YMax: 4856166.920898567
Spatial Reference: 102100
(3857)
Full Extent:
XMin: -8623583.86745867
YMin: 4825039.802199995
XMax: -8566775.52309203
YMax: 4876160.310911254
Spatial Reference: 102100
(3857)
Units: esriMeters
Supported Image Format Types: PNG32,PNG24,PNG,JPG,DIB,TIFF,EMF,PS,PDF,GIF,SVG,SVGZ,BMP
Document Info:
Title: Map Service Layers.aprx
Author:
Comments: These locations are based on parcel ID's that are joined to the ACOPD log-in database and converted to a point. Not all records may be present due to mistyping of the parcel ID in the database, multiple parcel IDs in the field, or parcels with an identifier outside the County.
Subject: Locations of submitted subdivision and land development (SLD) plans.
Category:
Keywords: Adams County,SLD
AntialiasingMode: None
TextAntialiasingMode: Force
Supports Dynamic Layers: true
Resampling: false
MaxRecordCount: 1000
MaxImageHeight: 4096
MaxImageWidth: 4096
Supported Query Formats: JSON, geoJSON, PBF
Supports Query Data Elements: true
Min Scale: 1155581.108577
Max Scale: 4513.988705
Supports Datum Transformation: true
Child Resources:
Info
Dynamic Layer
Supported Operations:
Export Map
Identify
QueryLegends
QueryDomains
Find
Return Updates
Generate KML