View In:
ArcGIS JavaScript
ArcGIS Online Map Viewer
ArcGIS Earth
ArcGIS Pro
Service Description: Locations where PRGS grant projects have been funded in Adams County, PA.These locations do not include applicants that used funds for feasibility or other studies.
Map Name: PRGS
Legend
All Layers and Tables
Dynamic Legend
Dynamic All Layers
Layers:
Tables:
Description: Locations where PRGS grant projects have been funded in Adams County, PA.These locations do not include applicants that used funds for feasibility or other studies.
Service Item Id: 6b7c3c147e3f49f482c22e1af8ba93e2
Copyright Text: ACOPD
Spatial Reference:
102100
(3857)
LatestVCSWkid(0)
Single Fused Map Cache: true
Tile Info:
- Height: 256.0
- Width: 256.0
- DPI: 96.0
-
Levels of Detail: 24
-
Level ID: 1
[ Start Tile, End Tile ]
- Resolution: 78271.5169639999
- Scale: 2.95828763795777E8
-
Level ID: 2
[ Start Tile, End Tile ]
- Resolution: 39135.7584820001
- Scale: 1.47914381897889E8
-
Level ID: 3
[ Start Tile, End Tile ]
- Resolution: 19567.8792409999
- Scale: 7.3957190948944E7
-
Level ID: 4
[ Start Tile, End Tile ]
- Resolution: 9783.93962049996
- Scale: 3.6978595474472E7
-
Level ID: 5
[ Start Tile, End Tile ]
- Resolution: 4891.96981024998
- Scale: 1.8489297737236E7
- Format: PNG
- Compression Quality: 0.0
- Origin: X: -2.0037508342787E7
Y: 2.0037508342787E7
- Spatial Reference: 102100
(3857)
LatestVCSWkid(0)
Storage Info:
- Storage Format: esriMapCacheStorageModeCompactV2
- Packet Size: 128
Initial Extent:
XMin: -8607992.767948158
YMin: 4845529.359146642
XMax: -8593942.515184632
YMax: 4857110.894061759
Spatial Reference: 102100
(0)
LatestVCSWkid(0)
Full Extent:
XMin: -8614485.427469669
YMin: 4826738.122698463
XMax: -8570042.95565176
YMax: 4874672.219884816
Spatial Reference: 102100
(0)
LatestVCSWkid(0)
Units: esriMeters
Supported Image Format Types: PNG32,PNG24,PNG,JPG,DIB,TIFF,EMF,PS,PDF,GIF,SVG,SVGZ,BMP
Document Info:
Title: Map Service Layers.aprx
Author:
Comments: Locations where PRGS grant projects have been funded in Adams County, PA.These locations do not include applicants that used funds for feasibility or other studies.
Subject: Adams County Park, Recreation, and Green Space (PRGS) Grant Program Locations
Category:
Keywords: PRGS,Adams County,Recreation
AntialiasingMode: Fast
TextAntialiasingMode: Force
Supports Dynamic Layers: true
MaxRecordCount: 2000
MaxSelectionCount: 2000
MaxImageHeight: 4096
MaxImageWidth: 4096
Supported Query Formats: JSON, geoJSON, PBF
Supports Query Data Elements: true
Min Scale: 577790.554289
Max Scale: 4513.988705
Min LOD: 10
Max LOD: 17
Supports Datum Transformation: true
Child Resources:
Info
Dynamic Layer
Supported Operations:
Export Map
Identify
QueryLegends
QueryDomains
Find
Return Updates