View In:
ArcGIS JavaScript
ArcGIS Online Map Viewer
ArcGIS Earth
ArcGIS Pro
Service Description: In addition to the identification of Special Flood Hazard Areas (SFHAs), the risk zones shown on the FIRMs are the basis for the establishment of premium rates for flood coverage offered through the NFIP. The FIRM Database presents the flood risk information depicted on the FIRM in a digital format suitable for use in electronic mapping applications. The FIRM Database serves to archive the information collected during the Flood Risk Project. Location and attributes flood insurance risk zones shown on the FIRM. FEMA FIRM Database Technical Reference (available in the FEMA Library at http://www.fema.gov/media-library/assets/documents/34519).
Map Name: Floodplains
Legend
All Layers and Tables
Dynamic Legend
Dynamic All Layers
Layers:
Description: In addition to the identification of Special Flood Hazard Areas (SFHAs), the risk zones shown on the FIRMs are the basis for the establishment of premium rates for flood coverage offered through the NFIP. The FIRM Database presents the flood risk information depicted on the FIRM in a digital format suitable for use in electronic mapping applications. The FIRM Database serves to archive the information collected during the Flood Risk Project. Location and attributes flood insurance risk zones shown on the FIRM. FEMA FIRM Database Technical Reference (available in the FEMA Library at http://www.fema.gov/media-library/assets/documents/34519).
Service Item Id: 177c6fc76a3746118004741235f06fc9
Copyright Text: FEMA, effective date 07/22/2020
Spatial Reference:
102100
(3857)
LatestVCSWkid(0)
Single Fused Map Cache: true
Tile Info:
- Height: 256.0
- Width: 256.0
- DPI: 96.0
-
Levels of Detail: 24
-
Level ID: 1
[ Start Tile, End Tile ]
- Resolution: 78271.5169639999
- Scale: 2.95828763795777E8
-
Level ID: 2
[ Start Tile, End Tile ]
- Resolution: 39135.7584820001
- Scale: 1.47914381897889E8
-
Level ID: 3
[ Start Tile, End Tile ]
- Resolution: 19567.8792409999
- Scale: 7.3957190948944E7
-
Level ID: 4
[ Start Tile, End Tile ]
- Resolution: 9783.93962049996
- Scale: 3.6978595474472E7
-
Level ID: 5
[ Start Tile, End Tile ]
- Resolution: 4891.96981024998
- Scale: 1.8489297737236E7
- Format: PNG
- Compression Quality: 0.0
- Origin: X: -2.0037508342787E7
Y: 2.0037508342787E7
- Spatial Reference: 102100
(3857)
LatestVCSWkid(0)
Storage Info:
- Storage Format: esriMapCacheStorageModeCompactV2
- Packet Size: 128
Initial Extent:
XMin: -8621297.745556409
YMin: 4829366.49139347
XMax: -8576508.46908099
YMax: 4866205.092795162
Spatial Reference: 102100
(0)
LatestVCSWkid(0)
Full Extent:
XMin: -8623842.541982235
YMin: 4825311.6940055005
XMax: -8567536.81778084
YMax: 4875594.51590088
Spatial Reference: 102100
(0)
LatestVCSWkid(0)
Units: esriMeters
Supported Image Format Types: PNG32,PNG24,PNG,JPG,DIB,TIFF,EMF,PS,PDF,GIF,SVG,SVGZ,BMP
Document Info:
Title: Map Service Layers.aprx
Author:
Comments: In addition to the identification of Special Flood Hazard Areas (SFHAs), the risk zones shown on the FIRMs are the basis for the establishment of premium rates for flood coverage offered through the NFIP. The FIRM Database presents the flood risk information depicted on the FIRM in a digital format suitable for use in electronic mapping applications. The FIRM Database serves to archive the information collected during the Flood Risk Project. Location and attributes flood insurance risk zones shown on the FIRM. FEMA FIRM Database Technical Reference (available in the FEMA Library at http://www.fema.gov/media-library/assets/documents/34519).
Subject: FEMA Special Flood Hazard Areas
Category:
Keywords: FEMA,Floodplain,Adams County
AntialiasingMode: Fast
TextAntialiasingMode: Force
Supports Dynamic Layers: true
MaxRecordCount: 2000
MaxSelectionCount: 2000
MaxImageHeight: 4096
MaxImageWidth: 4096
Supported Query Formats: JSON, geoJSON, PBF
Supports Query Data Elements: true
Min Scale: 577790.554289
Max Scale: 4513.988705
Min LOD: 10
Max LOD: 17
Supports Datum Transformation: true
Child Resources:
Info
Dynamic Layer
Supported Operations:
Export Map
Identify
QueryLegends
QueryDomains
Find
Return Updates