View In:
ArcGIS JavaScript
ArcGIS Online Map Viewer
ArcGIS Earth
ArcGIS Pro
Service Description: <div style='text-align:Left;'><div><p><span>Countywide aerial imagery from 2023 at a 9 inch and 3 inch resolution.</span></p></div></div>
Map Name: Aerial_MapService_2023_Pro
Legend
All Layers and Tables
Dynamic Legend
Dynamic All Layers
Layers:
Description: Countywide aerial imagery from 2023 at a 9 inch and 3 inch resolution.
Service Item Id: 7660d604c0ad4ef28cda24eaba3d5183
Copyright Text: Pictometry, EagleView Technologies 2023
Spatial Reference:
102100
(3857)
LatestVCSWkid(0)
Single Fused Map Cache: true
Tile Info:
- Height: 256.0
- Width: 256.0
- DPI: 96.0
-
Levels of Detail: 24
-
Level ID: 1
[ Start Tile, End Tile ]
- Resolution: 78271.5169639999
- Scale: 2.95828763795777E8
-
Level ID: 2
[ Start Tile, End Tile ]
- Resolution: 39135.7584820001
- Scale: 1.47914381897889E8
-
Level ID: 3
[ Start Tile, End Tile ]
- Resolution: 19567.8792409999
- Scale: 7.3957190948944E7
-
Level ID: 4
[ Start Tile, End Tile ]
- Resolution: 9783.93962049996
- Scale: 3.6978595474472E7
-
Level ID: 5
[ Start Tile, End Tile ]
- Resolution: 4891.96981024998
- Scale: 1.8489297737236E7
- Format: Mixed
- Compression Quality: 75.0
- Origin: X: -2.0037508342787E7
Y: 2.0037508342787E7
- Spatial Reference: 102100
(3857)
LatestVCSWkid(0)
Storage Info:
- Storage Format: esriMapCacheStorageModeCompactV2
- Packet Size: 128
Initial Extent:
XMin: -8576920.129047433
YMin: 4840480.881823548
XMax: -8567166.531065803
YMax: 4848530.125586334
Spatial Reference: 102100
(0)
LatestVCSWkid(0)
Full Extent:
XMin: -8624217.3996867
YMin: 4823927.697338356
XMax: -8565236.907424454
YMax: 4877916.184390028
Spatial Reference: 102100
(0)
LatestVCSWkid(0)
Units: esriMeters
Supported Image Format Types: PNG32,PNG24,PNG,JPG,DIB,TIFF,EMF,PS,PDF,GIF,SVG,SVGZ,BMP
Document Info:
Title: Aerials_2023
Author:
Comments: Countywide aerial imagery from 2023 at a 9 inch and 3 inch resolution.
Subject: Aerial imagery for Adams County, Pennsylvania.
Category:
Keywords: Aerials,Adams County
AntialiasingMode: Fast
TextAntialiasingMode: Force
Supports Dynamic Layers: true
MaxRecordCount: 2000
MaxSelectionCount: 2000
MaxImageHeight: 4096
MaxImageWidth: 4096
Supported Query Formats: JSON, geoJSON, PBF
Supports Query Data Elements: true
Min Scale: 144447.638572
Max Scale: 1128.497176
Supports Datum Transformation: true
Child Resources:
Info
Dynamic Layer
Supported Operations:
Export Map
Identify
QueryLegends
QueryDomains
Find
Return Updates