{
 "currentVersion": 11.5,
 "cimVersion": "3.5.0",
 "serviceDescription": "",
 "mapName": "Building_Outlines",
 "description": "",
 "copyrightText": "",
 "supportsDynamicLayers": true,
 "layers": [
  {
   "id": 0,
   "name": "Building Outlines (2023)",
   "parentLayerId": -1,
   "defaultVisibility": true,
   "subLayerIds": null,
   "minScale": 150000,
   "maxScale": 0,
   "type": "Feature Layer",
   "geometryType": "esriGeometryPolygon",
   "supportsDynamicLegends": true
  }
 ],
 "tables": [],
 "spatialReference": {
  "wkid": 102729,
  "latestWkid": 2272,
  "xyTolerance": 0.003280833333333333,
  "zTolerance": 0.001,
  "mTolerance": 0.001,
  "falseX": -119214200,
  "falseY": -96198500,
  "xyUnits": 3048.0060960121928,
  "falseZ": -100000,
  "zUnits": 10000,
  "falseM": -100000,
  "mUnits": 10000
 },
 "singleFusedMapCache": true,
 "tileInfo": {
  "rows": 256,
  "cols": 256,
  "dpi": 96,
  "format": "PNG",
  "compressionQuality": 0,
  "origin": {
   "x": -1.1921377516387853E8,
   "y": 1.1287823185167605E8
  },
  "spatialReference": {
   "wkid": 102729,
   "latestWkid": 2272,
   "xyTolerance": 0.003280833333333333,
   "zTolerance": 0.001,
   "mTolerance": 0.001,
   "falseX": -119214200,
   "falseY": -96198500,
   "xyUnits": 3048.0060960121928,
   "falseZ": -100000,
   "zUnits": 10000,
   "falseM": -100000,
   "mUnits": 10000
  },
  "lods": [
   {
    "level": 0,
    "resolution": 946736.524717801,
    "scale": 1.0906426577602224E9
   },
   {
    "level": 1,
    "resolution": 473368.2623589005,
    "scale": 5.453213288801112E8
   },
   {
    "level": 2,
    "resolution": 236684.13117945025,
    "scale": 2.726606644400556E8
   },
   {
    "level": 3,
    "resolution": 118342.06558972513,
    "scale": 1.363303322200278E8
   },
   {
    "level": 4,
    "resolution": 59171.03279486256,
    "scale": 6.81651661100139E7
   },
   {
    "level": 5,
    "resolution": 29585.51639743128,
    "scale": 3.408258305500695E7
   },
   {
    "level": 6,
    "resolution": 14792.75819871564,
    "scale": 1.7041291527503476E7
   },
   {
    "level": 7,
    "resolution": 7396.37909935782,
    "scale": 8520645.763751738
   },
   {
    "level": 8,
    "resolution": 3698.18954967891,
    "scale": 4260322.881875869
   },
   {
    "level": 9,
    "resolution": 1849.094774839455,
    "scale": 2130161.4409379344
   },
   {
    "level": 10,
    "resolution": 924.5473874197276,
    "scale": 1065080.7204689672
   },
   {
    "level": 11,
    "resolution": 462.2736937098638,
    "scale": 532540.3602344836
   },
   {
    "level": 12,
    "resolution": 231.1368468549319,
    "scale": 266270.1801172418
   },
   {
    "level": 13,
    "resolution": 115.56842342746594,
    "scale": 133135.0900586209
   },
   {
    "level": 14,
    "resolution": 57.78421171373297,
    "scale": 66567.54502931045
   },
   {
    "level": 15,
    "resolution": 28.892105856866486,
    "scale": 33283.772514655226
   },
   {
    "level": 16,
    "resolution": 14.446052928433243,
    "scale": 16641.886257327613
   },
   {
    "level": 17,
    "resolution": 7.2230264642166215,
    "scale": 8320.943128663806
   },
   {
    "level": 18,
    "resolution": 3.6115132321083108,
    "scale": 4160.471564331903
   },
   {
    "level": 19,
    "resolution": 1.8057566160541554,
    "scale": 2080.2357821659516
   },
   {
    "level": 20,
    "resolution": 0.9028783080270777,
    "scale": 1040.1178910829758
   },
   {
    "level": 21,
    "resolution": 0.45143915401353885,
    "scale": 520.0589455414879
   },
   {
    "level": 22,
    "resolution": 0.22571957700676942,
    "scale": 260.02947277074395
   },
   {
    "level": 23,
    "resolution": 0.11285978850338471,
    "scale": 130.01473638537198
   }
  ]
 },
 "storageInfo": {
  "storageFormat": "esriMapCacheStorageModeCompactV2",
  "packetSize": 128
 },
 "initialExtent": {
  "xmin": 2038706.286908181,
  "ymin": 129033.95493758854,
  "xmax": 2197039.620241514,
  "ymax": 258746.19904728333,
  "spatialReference": {
   "wkid": 102729,
   "latestWkid": 2272,
   "xyTolerance": 0.003280833333333333,
   "zTolerance": 0.001,
   "mTolerance": 0.001,
   "falseX": -119214200,
   "falseY": -96198500,
   "xyUnits": 3048.0060960121928,
   "falseZ": -100000,
   "zUnits": 10000,
   "falseM": -100000,
   "mUnits": 10000
  }
 },
 "fullExtent": {
  "xmin": 2047323.0611144751,
  "ymin": 140986.23107522726,
  "xmax": 2191096.1443026364,
  "ymax": 268765.6625237316,
  "spatialReference": {
   "wkid": 102729,
   "latestWkid": 2272,
   "xyTolerance": 0.003280833333333333,
   "zTolerance": 0.001,
   "mTolerance": 0.001,
   "falseX": -119214200,
   "falseY": -96198500,
   "xyUnits": 3048.0060960121928,
   "falseZ": -100000,
   "zUnits": 10000,
   "falseM": -100000,
   "mUnits": 10000
  }
 },
 "datesInUnknownTimezone": false,
 "minScale": 532540.3602344836,
 "maxScale": 4160.471564331903,
 "minLOD": 11,
 "maxLOD": 18,
 "units": "esriFeet",
 "supportedImageFormatTypes": "PNG32,PNG24,PNG,JPG,DIB,TIFF,EMF,PS,PDF,GIF,SVG,SVGZ,BMP",
 "documentInfo": {
  "Title": "Map",
  "Author": "",
  "Comments": "",
  "Subject": "",
  "Category": "",
  "Version": "3.5.0",
  "AntialiasingMode": "Fast",
  "TextAntialiasingMode": "Force",
  "Keywords": ""
 },
 "supportsQueryDomains": true,
 "capabilities": "Map,Query,Data,TileMap",
 "supportedQueryFormats": "JSON, geoJSON, PBF",
 "hasVersionedData": true,
 "exportTilesAllowed": false,
 "referenceScale": 0.0,
 "supportsDatumTransformation": true,
 "archivingInfo": {
  "supportsHistoricMoment": false
 },
 "supportsClipping": true,
 "supportsSpatialFilter": true,
 "supportsTimeRelation": true,
 "supportsQueryDataElements": true,
 "mapUnits": {
  "uwkid": 9003
 },
 "maxSelectionCount": 2000,
 "maxRecordCount": 2000,
 "maxImageHeight": 4096,
 "maxImageWidth": 4096,
 "supportedExtensions": "",
 "serviceItemId": "0666418a95e14b289eb62bc5e48fa7ac"
}
